Package: RedeR Version: 2.4.3 Command: /home/biocbuild/bbs-3.17-bioc/R/bin/R CMD check --install=check:RedeR.install-out.txt --library=/home/biocbuild/bbs-3.17-bioc/R/site-library --timings RedeR_2.4.3.tar.gz StartedAt: 2023-10-16 00:18:52 -0400 (Mon, 16 Oct 2023) EndedAt: 2023-10-16 00:19:34 -0400 (Mon, 16 Oct 2023) EllapsedTime: 42.3 seconds RetCode: 0 Status: OK CheckDir: RedeR.Rcheck Warnings: 0