Package: Rdisop Version: 1.60.0 Command: /Library/Frameworks/R.framework/Resources/bin/R CMD build --keep-empty-dirs --no-resave-data Rdisop StartedAt: 2023-10-15 20:35:16 -0400 (Sun, 15 Oct 2023) EndedAt: 2023-10-15 20:36:58 -0400 (Sun, 15 Oct 2023) EllapsedTime: 101.5 seconds RetCode: 0 Status: OK PackageFile: Rdisop_1.60.0.tar.gz PackageFileSize: 958.4 KiB