Package: Rbwa Version: 1.4.0 Command: /home/biocbuild/bbs-3.17-bioc/R/bin/R CMD INSTALL Rbwa StartedAt: 2023-10-15 15:07:46 -0400 (Sun, 15 Oct 2023) EndedAt: 2023-10-15 15:08:02 -0400 (Sun, 15 Oct 2023) EllapsedTime: 15.3 seconds RetCode: 0 Status: OK