Package: Rbwa Version: 1.4.0 Command: /home/biocbuild/bbs-3.17-bioc/R/bin/R CMD check --install=check:Rbwa.install-out.txt --library=/home/biocbuild/bbs-3.17-bioc/R/site-library --timings Rbwa_1.4.0.tar.gz StartedAt: 2023-10-16 00:15:26 -0400 (Mon, 16 Oct 2023) EndedAt: 2023-10-16 00:15:44 -0400 (Mon, 16 Oct 2023) EllapsedTime: 17.9 seconds RetCode: 0 Status: WARNINGS CheckDir: Rbwa.Rcheck Warnings: 2