Package: Rbwa Version: 1.4.0 Command: /home/biocbuild/bbs-3.17-bioc/R/bin/R CMD build --keep-empty-dirs --no-resave-data Rbwa StartedAt: 2023-10-15 18:07:12 -0400 (Sun, 15 Oct 2023) EndedAt: 2023-10-15 18:07:28 -0400 (Sun, 15 Oct 2023) EllapsedTime: 16.2 seconds RetCode: 0 Status: OK PackageFile: Rbwa_1.4.0.tar.gz PackageFileSize: 651.3 KiB