Package: RbcBook1 Version: 1.68.0 Command: /home/biocbuild/bbs-3.17-bioc/R/bin/R CMD check --install=check:RbcBook1.install-out.txt --library=/home/biocbuild/bbs-3.17-bioc/R/site-library --timings RbcBook1_1.68.0.tar.gz StartedAt: 2023-10-16 00:14:22 -0400 (Mon, 16 Oct 2023) EndedAt: 2023-10-16 00:14:51 -0400 (Mon, 16 Oct 2023) EllapsedTime: 28.3 seconds RetCode: 0 Status: OK CheckDir: RbcBook1.Rcheck Warnings: 0