Package: RandomWalkRestartMH Version: 1.20.0 Command: /Library/Frameworks/R.framework/Resources/bin/R CMD check --install=check:RandomWalkRestartMH.install-out.txt --library=/Library/Frameworks/R.framework/Resources/library --no-vignettes --timings RandomWalkRestartMH_1.20.0.tar.gz StartedAt: 2023-10-16 05:48:01 -0400 (Mon, 16 Oct 2023) EndedAt: 2023-10-16 05:50:50 -0400 (Mon, 16 Oct 2023) EllapsedTime: 168.3 seconds RetCode: 0 Status: WARNINGS CheckDir: RandomWalkRestartMH.Rcheck Warnings: 1