Package: RaggedExperiment Version: 1.24.2 Command: /Library/Frameworks/R.framework/Resources/bin/R CMD build --keep-empty-dirs --no-resave-data RaggedExperiment StartedAt: 2023-10-15 20:30:46 -0400 (Sun, 15 Oct 2023) EndedAt: 2023-10-15 20:31:58 -0400 (Sun, 15 Oct 2023) EllapsedTime: 71.2 seconds RetCode: 0 Status: OK PackageFile: RaggedExperiment_1.24.2.tar.gz PackageFileSize: 385.9 KiB