Package: RTNsurvival Version: 1.24.0 Command: /home/biocbuild/bbs-3.17-bioc/R/bin/R CMD check --install=check:RTNsurvival.install-out.txt --library=/home/biocbuild/bbs-3.17-bioc/R/site-library --timings RTNsurvival_1.24.0.tar.gz StartedAt: 2023-10-16 00:39:40 -0400 (Mon, 16 Oct 2023) EndedAt: 2023-10-16 00:43:24 -0400 (Mon, 16 Oct 2023) EllapsedTime: 224.4 seconds RetCode: 0 Status: OK CheckDir: RTNsurvival.Rcheck Warnings: 0