Package: RTNduals Version: 1.24.0 Command: F:\biocbuild\bbs-3.17-bioc\R\bin\R.exe CMD check --no-multiarch --install=check:RTNduals.install-out.txt --library=F:\biocbuild\bbs-3.17-bioc\R\library --no-vignettes --timings RTNduals_1.24.0.tar.gz StartedAt: 2023-10-16 06:17:39 -0400 (Mon, 16 Oct 2023) EndedAt: 2023-10-16 06:23:33 -0400 (Mon, 16 Oct 2023) EllapsedTime: 353.8 seconds RetCode: 0 Status: OK CheckDir: RTNduals.Rcheck Warnings: 0