Package: RProtoBufLib Version: 2.12.1 Command: chmod a+r RProtoBufLib -R && F:\biocbuild\bbs-3.17-bioc\R\bin\R.exe CMD build --keep-empty-dirs --no-resave-data RProtoBufLib StartedAt: 2023-10-15 21:57:09 -0400 (Sun, 15 Oct 2023) EndedAt: 2023-10-15 21:57:50 -0400 (Sun, 15 Oct 2023) EllapsedTime: 40.3 seconds RetCode: 0 Status: OK PackageFile: RProtoBufLib_2.12.1.tar.gz PackageFileSize: 21.08 MiB