Package: RNAmodR Version: 1.14.0 Command: chmod a+r RNAmodR -R && F:\biocbuild\bbs-3.17-bioc\R\bin\R.exe CMD build --keep-empty-dirs --no-resave-data RNAmodR StartedAt: 2023-10-15 21:52:55 -0400 (Sun, 15 Oct 2023) EndedAt: 2023-10-15 21:57:24 -0400 (Sun, 15 Oct 2023) EllapsedTime: 269.6 seconds RetCode: 0 Status: OK PackageFile: RNAmodR_1.14.0.tar.gz PackageFileSize: 1.291 MiB