Package: RNAdecay Version: 1.20.0 Command: /home/biocbuild/bbs-3.17-bioc/R/bin/R CMD build --keep-empty-dirs --no-resave-data RNAdecay StartedAt: 2023-10-15 18:15:04 -0400 (Sun, 15 Oct 2023) EndedAt: 2023-10-15 18:21:47 -0400 (Sun, 15 Oct 2023) EllapsedTime: 402.9 seconds RetCode: 1 Status: ERROR PackageFile: None PackageFileSize: NA