Package: RLassoCox Version: 1.8.0 Command: /home/biocbuild/bbs-3.17-bioc/R/bin/R CMD check --install=check:RLassoCox.install-out.txt --library=/home/biocbuild/bbs-3.17-bioc/R/site-library --timings RLassoCox_1.8.0.tar.gz StartedAt: 2023-10-16 00:28:52 -0400 (Mon, 16 Oct 2023) EndedAt: 2023-10-16 00:34:09 -0400 (Mon, 16 Oct 2023) EllapsedTime: 317.7 seconds RetCode: 0 Status: OK CheckDir: RLassoCox.Rcheck Warnings: 0