Package: RDRToolbox Version: 1.50.0 Command: /home/biocbuild/bbs-3.17-bioc/R/bin/R CMD check --install=check:RDRToolbox.install-out.txt --library=/home/biocbuild/bbs-3.17-bioc/R/site-library --timings RDRToolbox_1.50.0.tar.gz StartedAt: 2023-10-16 00:17:15 -0400 (Mon, 16 Oct 2023) EndedAt: 2023-10-16 00:18:06 -0400 (Mon, 16 Oct 2023) EllapsedTime: 51.0 seconds RetCode: 0 Status: OK CheckDir: RDRToolbox.Rcheck Warnings: 0