Package: RDRToolbox Version: 1.50.0 Command: /Library/Frameworks/R.framework/Resources/bin/R CMD build --keep-empty-dirs --no-resave-data RDRToolbox StartedAt: 2023-10-15 20:35:19 -0400 (Sun, 15 Oct 2023) EndedAt: 2023-10-15 20:35:51 -0400 (Sun, 15 Oct 2023) EllapsedTime: 32.0 seconds RetCode: 0 Status: OK PackageFile: RDRToolbox_1.50.0.tar.gz PackageFileSize: 190.5 KiB