Package: RCy3 Version: 2.20.2 Command: F:\biocbuild\bbs-3.17-bioc\R\bin\R.exe CMD INSTALL RCy3 StartedAt: 2023-10-15 16:34:40 -0400 (Sun, 15 Oct 2023) EndedAt: 2023-10-15 16:35:27 -0400 (Sun, 15 Oct 2023) EllapsedTime: 46.8 seconds RetCode: 0 Status: OK