Package: RCAS Version: 1.26.0 Command: F:\biocbuild\bbs-3.17-bioc\R\bin\R.exe CMD INSTALL RCAS StartedAt: 2023-10-15 16:28:31 -0400 (Sun, 15 Oct 2023) EndedAt: 2023-10-15 16:29:25 -0400 (Sun, 15 Oct 2023) EllapsedTime: 53.8 seconds RetCode: 0 Status: OK