Package: RCAS Version: 1.26.0 Command: rm -rf RCAS.buildbin-libdir && mkdir RCAS.buildbin-libdir && F:\biocbuild\bbs-3.17-bioc\R\bin\R.exe CMD INSTALL --build --library=RCAS.buildbin-libdir RCAS_1.26.0.tar.gz StartedAt: 2023-10-16 09:20:40 -0400 (Mon, 16 Oct 2023) EndedAt: 2023-10-16 09:21:44 -0400 (Mon, 16 Oct 2023) EllapsedTime: 63.6 seconds RetCode: 0 Status: OK PackageFile: RCAS_1.26.0.zip PackageFileSize: 1.858 MiB