Package: RBGL Version: 1.76.0 Command: /home/biocbuild/bbs-3.17-bioc/R/bin/R CMD INSTALL RBGL StartedAt: 2023-10-15 15:08:59 -0400 (Sun, 15 Oct 2023) EndedAt: 2023-10-15 15:10:40 -0400 (Sun, 15 Oct 2023) EllapsedTime: 100.9 seconds RetCode: 0 Status: OK