Package: RBGL Version: 1.76.0 Command: /home/biocbuild/bbs-3.17-bioc/R/bin/R CMD build --keep-empty-dirs --no-resave-data RBGL StartedAt: 2023-10-15 18:06:36 -0400 (Sun, 15 Oct 2023) EndedAt: 2023-10-15 18:08:29 -0400 (Sun, 15 Oct 2023) EllapsedTime: 112.9 seconds RetCode: 0 Status: OK PackageFile: RBGL_1.76.0.tar.gz PackageFileSize: 2.893 MiB