Package: R453Plus1Toolbox Version: 1.50.0 Command: /home/biocbuild/bbs-3.17-bioc/R/bin/R CMD build --keep-empty-dirs --no-resave-data R453Plus1Toolbox StartedAt: 2023-10-15 18:05:19 -0400 (Sun, 15 Oct 2023) EndedAt: 2023-10-15 18:07:10 -0400 (Sun, 15 Oct 2023) EllapsedTime: 110.9 seconds RetCode: 0 Status: OK PackageFile: R453Plus1Toolbox_1.50.0.tar.gz PackageFileSize: 839 KiB