Package: Qtlizer Version: 1.14.0 Command: /home/biocbuild/bbs-3.17-bioc/R/bin/R CMD check --install=check:Qtlizer.install-out.txt --library=/home/biocbuild/bbs-3.17-bioc/R/site-library --timings Qtlizer_1.14.0.tar.gz StartedAt: 2023-10-16 00:10:12 -0400 (Mon, 16 Oct 2023) EndedAt: 2023-10-16 00:10:39 -0400 (Mon, 16 Oct 2023) EllapsedTime: 27.0 seconds RetCode: 0 Status: OK CheckDir: Qtlizer.Rcheck Warnings: 0