Package: Qtlizer Version: 1.14.0 Command: rm -rf Qtlizer.buildbin-libdir && mkdir Qtlizer.buildbin-libdir && /Users/biocbuild/BBS/utils/build-universal.sh Qtlizer_1.14.0.tar.gz /Library/Frameworks/R.framework/Resources/bin/R Qtlizer.buildbin-libdir StartedAt: 2023-10-16 09:59:03 -0400 (Mon, 16 Oct 2023) EndedAt: 2023-10-16 09:59:09 -0400 (Mon, 16 Oct 2023) EllapsedTime: 6.2 seconds RetCode: 0 Status: OK PackageFile: Qtlizer_1.14.0.tgz PackageFileSize: 235.6 KiB