Package: QUBIC Version: 1.28.0 Command: /Library/Frameworks/R.framework/Resources/bin/R CMD INSTALL QUBIC StartedAt: 2023-10-15 16:14:05 -0400 (Sun, 15 Oct 2023) EndedAt: 2023-10-15 16:15:47 -0400 (Sun, 15 Oct 2023) EllapsedTime: 101.7 seconds RetCode: 0 Status: OK