Package: Prostar Version: 1.32.6 Command: chmod a+r Prostar -R && F:\biocbuild\bbs-3.17-bioc\R\bin\R.exe CMD build --keep-empty-dirs --no-resave-data Prostar StartedAt: 2023-10-15 21:29:19 -0400 (Sun, 15 Oct 2023) EndedAt: 2023-10-15 21:30:05 -0400 (Sun, 15 Oct 2023) EllapsedTime: 45.9 seconds RetCode: 0 Status: OK PackageFile: Prostar_1.32.6.tar.gz PackageFileSize: 5.546 MiB