Package: Prostar Version: 1.32.6 Command: /home/biocbuild/bbs-3.17-bioc/R/bin/R CMD build --keep-empty-dirs --no-resave-data Prostar StartedAt: 2023-10-15 18:01:55 -0400 (Sun, 15 Oct 2023) EndedAt: 2023-10-15 18:02:27 -0400 (Sun, 15 Oct 2023) EllapsedTime: 32.5 seconds RetCode: 0 Status: OK PackageFile: Prostar_1.32.6.tar.gz PackageFileSize: 5.537 MiB