Package: PloGO2 Version: 1.12.0 Command: /Library/Frameworks/R.framework/Resources/bin/R CMD check --install=check:PloGO2.install-out.txt --library=/Library/Frameworks/R.framework/Resources/library --no-vignettes --timings PloGO2_1.12.0.tar.gz StartedAt: 2023-10-16 05:19:55 -0400 (Mon, 16 Oct 2023) EndedAt: 2023-10-16 05:33:20 -0400 (Mon, 16 Oct 2023) EllapsedTime: 805.3 seconds RetCode: 0 Status: OK CheckDir: PloGO2.Rcheck Warnings: 0