Package: PhosR Version: 1.10.0 Command: /Library/Frameworks/R.framework/Resources/bin/R CMD build --keep-empty-dirs --no-resave-data PhosR StartedAt: 2023-10-15 20:16:55 -0400 (Sun, 15 Oct 2023) EndedAt: 2023-10-15 20:25:24 -0400 (Sun, 15 Oct 2023) EllapsedTime: 509.0 seconds RetCode: 0 Status: OK PackageFile: PhosR_1.10.0.tar.gz PackageFileSize: 7.344 MiB