Package: PharmacoGx Version: 3.4.0 Command: chmod a+r PharmacoGx -R && F:\biocbuild\bbs-3.17-bioc\R\bin\R.exe CMD build --keep-empty-dirs --no-resave-data PharmacoGx StartedAt: 2023-10-15 21:19:21 -0400 (Sun, 15 Oct 2023) EndedAt: 2023-10-15 21:21:23 -0400 (Sun, 15 Oct 2023) EllapsedTime: 121.7 seconds RetCode: 0 Status: OK PackageFile: PharmacoGx_3.4.0.tar.gz PackageFileSize: 4.419 MiB