Package: PharmacoGx Version: 3.4.0 Command: rm -rf PharmacoGx.buildbin-libdir && mkdir PharmacoGx.buildbin-libdir && F:\biocbuild\bbs-3.17-bioc\R\bin\R.exe CMD INSTALL --build --library=PharmacoGx.buildbin-libdir PharmacoGx_3.4.0.tar.gz StartedAt: 2023-10-16 09:15:21 -0400 (Mon, 16 Oct 2023) EndedAt: 2023-10-16 09:16:31 -0400 (Mon, 16 Oct 2023) EllapsedTime: 70.6 seconds RetCode: 0 Status: OK PackageFile: PharmacoGx_3.4.0.zip PackageFileSize: 4.144 MiB