Package: PharmacoGx Version: 3.4.0 Command: /Library/Frameworks/R.framework/Resources/bin/R CMD build --keep-empty-dirs --no-resave-data PharmacoGx StartedAt: 2023-10-15 20:15:06 -0400 (Sun, 15 Oct 2023) EndedAt: 2023-10-15 20:19:42 -0400 (Sun, 15 Oct 2023) EllapsedTime: 275.7 seconds RetCode: 0 Status: OK PackageFile: PharmacoGx_3.4.0.tar.gz PackageFileSize: 4.423 MiB