Package: PanomiR Version: 1.4.0 Command: /Library/Frameworks/R.framework/Resources/bin/R CMD INSTALL PanomiR StartedAt: 2023-10-15 16:08:11 -0400 (Sun, 15 Oct 2023) EndedAt: 2023-10-15 16:08:21 -0400 (Sun, 15 Oct 2023) EllapsedTime: 10.4 seconds RetCode: 0 Status: OK