Package: PanViz Version: 1.2.0 Command: rm -rf PanViz.buildbin-libdir && mkdir PanViz.buildbin-libdir && /Users/biocbuild/BBS/utils/build-universal.sh PanViz_1.2.0.tar.gz /Library/Frameworks/R.framework/Resources/bin/R PanViz.buildbin-libdir StartedAt: 2023-10-16 09:53:46 -0400 (Mon, 16 Oct 2023) EndedAt: 2023-10-16 09:53:59 -0400 (Mon, 16 Oct 2023) EllapsedTime: 13.5 seconds RetCode: 0 Status: OK PackageFile: PanViz_1.2.0.tgz PackageFileSize: 2.113 MiB