Package: PSEA Version: 1.34.0 Command: chmod a+r PSEA -R && F:\biocbuild\bbs-3.17-bioc\R\bin\R.exe CMD build --keep-empty-dirs --no-resave-data PSEA StartedAt: 2023-10-15 21:29:46 -0400 (Sun, 15 Oct 2023) EndedAt: 2023-10-15 21:30:52 -0400 (Sun, 15 Oct 2023) EllapsedTime: 65.5 seconds RetCode: 0 Status: OK PackageFile: PSEA_1.34.0.tar.gz PackageFileSize: 6.123 MiB