Package: PROPER Version: 1.32.0 Command: /Library/Frameworks/R.framework/Resources/bin/R CMD check --install=check:PROPER.install-out.txt --library=/Library/Frameworks/R.framework/Resources/library --no-vignettes --timings PROPER_1.32.0.tar.gz StartedAt: 2023-10-16 05:33:20 -0400 (Mon, 16 Oct 2023) EndedAt: 2023-10-16 05:34:52 -0400 (Mon, 16 Oct 2023) EllapsedTime: 91.4 seconds RetCode: 0 Status: WARNINGS CheckDir: PROPER.Rcheck Warnings: 2