Package: PROMISE Version: 1.52.0 Command: /home/biocbuild/bbs-3.17-bioc/R/bin/R CMD check --install=check:PROMISE.install-out.txt --library=/home/biocbuild/bbs-3.17-bioc/R/site-library --timings PROMISE_1.52.0.tar.gz StartedAt: 2023-10-16 00:02:26 -0400 (Mon, 16 Oct 2023) EndedAt: 2023-10-16 00:04:34 -0400 (Mon, 16 Oct 2023) EllapsedTime: 127.9 seconds RetCode: 0 Status: OK CheckDir: PROMISE.Rcheck Warnings: 0