Package: PREDA Version: 1.46.0 Command: /Library/Frameworks/R.framework/Resources/bin/R CMD build --keep-empty-dirs --no-resave-data PREDA StartedAt: 2023-10-15 20:22:25 -0400 (Sun, 15 Oct 2023) EndedAt: 2023-10-15 20:27:45 -0400 (Sun, 15 Oct 2023) EllapsedTime: 320.1 seconds RetCode: 0 Status: OK PackageFile: PREDA_1.46.0.tar.gz PackageFileSize: 2.005 MiB