Package: PAIRADISE Version: 1.16.0 Command: /Library/Frameworks/R.framework/Resources/bin/R CMD INSTALL PAIRADISE StartedAt: 2023-10-15 15:52:05 -0400 (Sun, 15 Oct 2023) EndedAt: 2023-10-15 15:53:07 -0400 (Sun, 15 Oct 2023) EllapsedTime: 62.6 seconds RetCode: 0 Status: OK