Package: PAIRADISE Version: 1.16.0 Command: rm -rf PAIRADISE.buildbin-libdir && mkdir PAIRADISE.buildbin-libdir && /Users/biocbuild/BBS/utils/build-universal.sh PAIRADISE_1.16.0.tar.gz /Library/Frameworks/R.framework/Resources/bin/R PAIRADISE.buildbin-libdir StartedAt: 2023-10-16 09:53:25 -0400 (Mon, 16 Oct 2023) EndedAt: 2023-10-16 09:54:33 -0400 (Mon, 16 Oct 2023) EllapsedTime: 68.7 seconds RetCode: 0 Status: OK PackageFile: PAIRADISE_1.16.0.tgz PackageFileSize: 381.5 KiB