Package: PAA Version: 1.34.0 Command: chmod a+r PAA -R && F:\biocbuild\bbs-3.17-bioc\R\bin\R.exe CMD build --keep-empty-dirs --no-resave-data PAA StartedAt: 2023-10-15 21:09:08 -0400 (Sun, 15 Oct 2023) EndedAt: 2023-10-15 21:15:23 -0400 (Sun, 15 Oct 2023) EllapsedTime: 375.9 seconds RetCode: 0 Status: OK PackageFile: PAA_1.34.0.tar.gz PackageFileSize: 2.834 MiB