Package: PAA Version: 1.34.0 Command: rm -rf PAA.buildbin-libdir && mkdir PAA.buildbin-libdir && F:\biocbuild\bbs-3.17-bioc\R\bin\R.exe CMD INSTALL --build --library=PAA.buildbin-libdir PAA_1.34.0.tar.gz StartedAt: 2023-10-16 09:13:42 -0400 (Mon, 16 Oct 2023) EndedAt: 2023-10-16 09:14:49 -0400 (Mon, 16 Oct 2023) EllapsedTime: 67.5 seconds RetCode: 0 Status: OK PackageFile: PAA_1.34.0.zip PackageFileSize: 3.399 MiB