Package: OGRE Version: 1.4.0 Command: chmod a+r OGRE -R && F:\biocbuild\bbs-3.17-bioc\R\bin\R.exe CMD build --keep-empty-dirs --no-resave-data OGRE StartedAt: 2023-10-15 20:56:27 -0400 (Sun, 15 Oct 2023) EndedAt: 2023-10-15 20:58:00 -0400 (Sun, 15 Oct 2023) EllapsedTime: 92.8 seconds RetCode: 0 Status: OK PackageFile: OGRE_1.4.0.tar.gz PackageFileSize: 1.533 MiB