Package: OGRE Version: 1.4.0 Command: /home/biocbuild/bbs-3.17-bioc/R/bin/R CMD build --keep-empty-dirs --no-resave-data OGRE StartedAt: 2023-10-15 17:42:50 -0400 (Sun, 15 Oct 2023) EndedAt: 2023-10-15 17:44:48 -0400 (Sun, 15 Oct 2023) EllapsedTime: 118.0 seconds RetCode: 1 Status: ERROR PackageFile: None PackageFileSize: NA