Package: NewWave Version: 1.10.0 Command: /Library/Frameworks/R.framework/Resources/bin/R CMD build --keep-empty-dirs --no-resave-data NewWave StartedAt: 2023-10-15 19:54:48 -0400 (Sun, 15 Oct 2023) EndedAt: 2023-10-15 19:59:31 -0400 (Sun, 15 Oct 2023) EllapsedTime: 283.0 seconds RetCode: 0 Status: OK PackageFile: NewWave_1.10.0.tar.gz PackageFileSize: 74.42 KiB