Package: NewWave Version: 1.10.0 Command: rm -rf NewWave.buildbin-libdir && mkdir NewWave.buildbin-libdir && /Users/biocbuild/BBS/utils/build-universal.sh NewWave_1.10.0.tar.gz /Library/Frameworks/R.framework/Resources/bin/R NewWave.buildbin-libdir StartedAt: 2023-10-16 09:50:12 -0400 (Mon, 16 Oct 2023) EndedAt: 2023-10-16 09:51:22 -0400 (Mon, 16 Oct 2023) EllapsedTime: 70.1 seconds RetCode: 0 Status: OK PackageFile: NewWave_1.10.0.tgz PackageFileSize: 402.4 KiB