Package: MultiMed Version: 2.22.0 Command: F:\biocbuild\bbs-3.17-bioc\R\bin\R.exe CMD INSTALL MultiMed StartedAt: 2023-10-15 16:52:15 -0400 (Sun, 15 Oct 2023) EndedAt: 2023-10-15 16:52:18 -0400 (Sun, 15 Oct 2023) EllapsedTime: 3.1 seconds RetCode: 0 Status: OK