Package: MultiMed Version: 2.22.0 Command: /Library/Frameworks/R.framework/Resources/bin/R CMD check --install=check:MultiMed.install-out.txt --library=/Library/Frameworks/R.framework/Resources/library --no-vignettes --timings MultiMed_2.22.0.tar.gz StartedAt: 2023-10-16 04:27:38 -0400 (Mon, 16 Oct 2023) EndedAt: 2023-10-16 04:28:20 -0400 (Mon, 16 Oct 2023) EllapsedTime: 41.6 seconds RetCode: 0 Status: OK CheckDir: MultiMed.Rcheck Warnings: 0