Package: MsCoreUtils Version: 1.12.0 Command: F:\biocbuild\bbs-3.17-bioc\R\bin\R.exe CMD check --no-multiarch --install=check:MsCoreUtils.install-out.txt --library=F:\biocbuild\bbs-3.17-bioc\R\library --no-vignettes --timings MsCoreUtils_1.12.0.tar.gz StartedAt: 2023-10-16 04:25:30 -0400 (Mon, 16 Oct 2023) EndedAt: 2023-10-16 04:29:39 -0400 (Mon, 16 Oct 2023) EllapsedTime: 249.4 seconds RetCode: 0 Status: OK CheckDir: MsCoreUtils.Rcheck Warnings: 0