Package: MsBackendMgf Version: 1.8.0 Command: F:\biocbuild\bbs-3.17-bioc\R\bin\R.exe CMD INSTALL MsBackendMgf StartedAt: 2023-10-15 16:08:01 -0400 (Sun, 15 Oct 2023) EndedAt: 2023-10-15 16:08:14 -0400 (Sun, 15 Oct 2023) EllapsedTime: 12.5 seconds RetCode: 0 Status: OK